BEGIN:VCALENDAR
VERSION:2.0
PRODID:-//ChamberMaster//Event Calendar 2.0//EN
METHOD:PUBLISH
X-PUBLISHED-TTL:P3D
REFRESH-INTERVAL:P3D
CALSCALE:GREGORIAN
BEGIN:VEVENT
DTSTART:20260422T210000Z
DTEND:20260422T230000Z
X-MICROSOFT-CDO-ALLDAYEVENT:FALSE
SUMMARY:Wild Rabbit Earth Day Celebration
DESCRIPTION:Wednesday April 22. 3-5pm. Here at the shop! Big discounts on recycled clothing and natural bath and body items! Sips\, treats & BIG discounts!
X-ALT-DESC;FMTTYPE=text/html:<div>\n<div>Wednesday April 22. 3-5pm. Here at the shop! Big discounts on recycled clothing and natural bath and body items! Sips\, treats &amp\; BIG discounts!</div>\n\n<div>&nbsp\;</div>\n</div>\n\n<div>&nbsp\;</div>\n
LOCATION:Wild Rabbit Boutique Downtown Evergreen. 28265 CO-74 Evergreen\, CO
UID:e.298.106457
SEQUENCE:3
DTSTAMP:20260420T213815Z
URL:https://business.evergreenchamber.org/events/details/wild-rabbit-earth-day-celebration-106457
END:VEVENT

END:VCALENDAR
