BEGIN:VCALENDAR
VERSION:2.0
PRODID:-//ChamberMaster//Event Calendar 2.0//EN
METHOD:PUBLISH
X-PUBLISHED-TTL:P3D
REFRESH-INTERVAL:P3D
CALSCALE:GREGORIAN
BEGIN:VEVENT
DTSTART:20260425T160000Z
DTEND:20260425T180000Z
X-MICROSOFT-CDO-ALLDAYEVENT:FALSE
SUMMARY:Free Community Workshop: Postcard Creations
DESCRIPTION:Free Community Workshop: Postcard Creations\n\n\nFound & Framed: Postcard Creations\n\nSaturday\, April 25 | 10AM   12PM\n\nJoin us for a free\, hands-on art workshop led by Nadia Younes\, the current Artist in Residence at Center for the Arts Evergreen and recent graduate from Yale University. In this session\, participants will explore the art of assemblage by crafting their own unique "postcards" using found objects and unexpected materials. This workshop invites you to experiment\, tell a story\, and transform everyday items into meaningful\, one-of-a-kind artworks no prior experience needed.\n\nAll materials will be provided. All ages are welcome!\n\n\n\nTo help us prepare\, we ask that you register in advance \n\nhttps://evergreenarts.org/cae/free-community-workshop-postcard-creations/
X-ALT-DESC;FMTTYPE=text/html:<h1>Free Community Workshop: Postcard Creations</h1>\n\n<div>\n<p><strong>Found &amp\; Framed: Postcard Creations</strong></p>\n\n<p>Saturday\, April 25 | 10AM &ndash\; 12PM</p>\n\n<p>Join us for a free\, hands-on art workshop led by Nadia Younes\, the current Artist in Residence at Center for the Arts Evergreen and recent graduate from Yale University. In this session\, participants will explore the art of assemblage by crafting their own unique &ldquo\;postcards&rdquo\; using found objects and unexpected materials. This workshop invites you to experiment\, tell a story\, and transform everyday items into meaningful\, one-of-a-kind artworks&mdash\;no prior experience needed.</p>\n\n<p>All materials will be provided. All ages are welcome!</p>\n\n<p><br />\n<strong>To help us prepare\, we ask that you register in advance&nbsp\;</strong></p>\n\n<p>https://evergreenarts.org/cae/free-community-workshop-postcard-creations/</p>\n</div>\n
LOCATION:CENTER FOR THE ARTS EVERGREEN 31880 Rocky Village Drive Evergreen\, CO 80439
UID:e.298.106453
SEQUENCE:3
DTSTAMP:20260419T122712Z
URL:https://business.evergreenchamber.org/events/details/free-community-workshop-postcard-creations-106453
END:VEVENT

END:VCALENDAR
