BEGIN:VCALENDAR
VERSION:2.0
PRODID:-//ChamberMaster//Event Calendar 2.0//EN
METHOD:PUBLISH
X-PUBLISHED-TTL:P3D
REFRESH-INTERVAL:P3D
CALSCALE:GREGORIAN
BEGIN:VEVENT
DTSTART;VALUE=DATE:20260511
DTEND;VALUE=DATE:20260901
TRANSP:TRANSPARENT
X-MICROSOFT-CDO-ALLDAYEVENT:TRUE
SUMMARY:Flourish Beach Summer Volleyball Leagues 2026
DESCRIPTION:Get ready to play beach volleyball all summer long with Flourish Beach leagues! Whether you're into friendly competition or just love the beach vibes\, we have a league for you! Leagues You Can Join: Mondays: King & Queen of the Beach (KOB/QOB) Tuesdays: Teen Girls League Wednesdays: 4x4 Coed League Whether you're brushing up on your skills or just want to enjoy a fun\, competitive game\, we've got you covered! Let's keep the summer vibes going with weekly games\, skills\, and good energy! [KOB/QOB League Registration] - https://www.zeffy.com/en-US/ticketing/flourish-beach-coed-4s-league-on-wednesdays--26 [Teen Girls League Registration] - https://www.zeffy.com/en-US/ticketing/flourish-beach-18u-leagues-summer--26 [4x4 Coed League Registration] - https://www.zeffy.com/en-US/ticketing/flourish-beach-coed-4s-league-on-wednesdays--26 Location: Flourish Beach at Eudaimonia HFC\, 4471 Parmalee Gulch Rd\, Indian Hills\, CO
X-ALT-DESC;FMTTYPE=text/html:Get ready to play beach volleyball all summer long with Flourish Beach leagues! Whether you&#39\;re into friendly competition or just love the beach vibes\, we have a league for you! Leagues You Can Join: Mondays: King &amp\; Queen of the Beach (KOB/QOB) Tuesdays: Teen Girls League Wednesdays: 4x4 Coed League Whether you&#39\;re brushing up on your skills or just want to enjoy a fun\, competitive game\, we&#39\;ve got you covered! Let&rsquo\;s keep the summer vibes going with weekly games\, skills\, and good energy! [KOB/QOB League Registration] - https://www.zeffy.com/en-US/ticketing/flourish-beach-coed-4s-league-on-wednesdays--26 [Teen Girls League Registration] - https://www.zeffy.com/en-US/ticketing/flourish-beach-18u-leagues-summer--26 [4x4 Coed League Registration] - https://www.zeffy.com/en-US/ticketing/flourish-beach-coed-4s-league-on-wednesdays--26 Location: Flourish Beach at Eudaimonia HFC\, 4471 Parmalee Gulch Rd\, Indian Hills\, CO
LOCATION:4471 Parmalee Gulch Rd\, Indian Hills\, CO
UID:e.298.106390
SEQUENCE:3
DTSTAMP:20260419T122822Z
URL:https://business.evergreenchamber.org/events/details/flourish-beach-summer-volleyball-leagues-2026-106390
END:VEVENT

END:VCALENDAR
