BEGIN:VCALENDAR
VERSION:2.0
PRODID:-//ChamberMaster//Event Calendar 2.0//EN
METHOD:PUBLISH
X-PUBLISHED-TTL:P3D
REFRESH-INTERVAL:P3D
CALSCALE:GREGORIAN
BEGIN:VEVENT
DTSTART:20260425T233000Z
DTEND:20260426T013000Z
X-MICROSOFT-CDO-ALLDAYEVENT:FALSE
SUMMARY:FREE LIVE MUSIC BY MILEHIGHVIBES THIS SATURDAY AT 5:30PM!!
DESCRIPTION:Join us this Saturday April 25th for free live music by MILEHIGHVIBES playing here for the first time 5:30pm to 7:30pm. MileHighVibes - A genre - blending duo performing jazz\, soul\, R&B\, pop with a smooth and modern sound incorporating soulful vocals and rich harmonies. Don't miss out this is going to be fun!! Happy hour everyday 3pm to 5pm. Come enjoy a Saturday night off and let us take care of you. We would love to see you!! Cheers!!
X-ALT-DESC;FMTTYPE=text/html:Join us this Saturday April 25th for free live music by MILEHIGHVIBES playing here for the first time 5:30pm to 7:30pm. MileHighVibes - A genre - blending duo performing jazz\, soul\, R&amp\;B\, pop with a smooth and modern sound incorporating soulful vocals and rich harmonies. Don&#39\;t miss out this is going to be fun!! Happy hour everyday 3pm to 5pm. Come enjoy a Saturday night off and let us take care of you. We would love to see you!! Cheers!!
LOCATION:Revival Brews 27845 Hwy 74 Downtown Evergreen
UID:e.298.106468
SEQUENCE:3
DTSTAMP:20260423T091256Z
URL:http://business.evergreenchamber.org/events/details/free-live-music-by-milehighvibes-this-saturday-at-5-30pm-106468
END:VEVENT

END:VCALENDAR
