BEGIN:VCALENDAR
VERSION:2.0
PRODID:-//ChamberMaster//Event Calendar 2.0//EN
METHOD:PUBLISH
X-PUBLISHED-TTL:P3D
REFRESH-INTERVAL:P3D
CALSCALE:GREGORIAN
BEGIN:VEVENT
DTSTART;VALUE=DATE:20260601
DTEND;VALUE=DATE:20260815
TRANSP:TRANSPARENT
X-MICROSOFT-CDO-ALLDAYEVENT:TRUE
SUMMARY:Flourish Beach Summer Volleyball Camp 2026
DESCRIPTION:Hit the Sand This Summer!\n\n\n\nLooking for a fun way for your athlete to train\, compete\, and grow on the sand? Flourish Beach's 2026 Beach Volleyball Camp is here!\n\n\n\nBeginner/Intermediate (Ages 8+)\n\nMon/Wed/Fri | 9:00   11:00 AM\n\nBuild skills & confidence\n\n\n\nAdvanced (Ages 13+)\n\nMon/Wed | 9:30 AM   12:00 PM\n\nElite doubles prep & performance training\n\n\n\n- Professional coaching\n\n- Skill development for every level\n\n- Small group training on the sand\n\n\n\nLocation: 4471 Parmalee Gulch Rd\, Indian Hills\n\nInfo: info@FlourishBeach.org\n\nCall: 833.568.7474\n\n\n\nSpots are limited! Register now: https://www.zeffy.com/en-US/ticketing/flourish-beach-youth-volleyball-camp--26
X-ALT-DESC;FMTTYPE=text/html:<strong><span style="color:rgb(12\, 16\, 20)\; font-family:-apple-system\,blinkmacsystemfont\,segoe ui\,roboto\,helvetica\,arial\,sans-serif\; font-size:14px">Hit the Sand This Summer!</span></strong><br />\n<br />\n<span style="color:rgb(12\, 16\, 20)\; font-family:-apple-system\,blinkmacsystemfont\,segoe ui\,roboto\,helvetica\,arial\,sans-serif\; font-size:14px">Looking for a fun way for your athlete to train\, compete\, and grow on the sand? Flourish Beach&rsquo\;s 2026 Beach Volleyball Camp is here!</span><br />\n<br />\n<span style="color:rgb(12\, 16\, 20)\; font-family:-apple-system\,blinkmacsystemfont\,segoe ui\,roboto\,helvetica\,arial\,sans-serif\; font-size:14px"><strong>Beginner/Intermediate (Ages 8+)</strong></span><br />\n<span style="color:rgb(12\, 16\, 20)\; font-family:-apple-system\,blinkmacsystemfont\,segoe ui\,roboto\,helvetica\,arial\,sans-serif\; font-size:14px">Mon/Wed/Fri | 9:00 &ndash\; 11:00 AM</span><br />\n<span style="color:rgb(12\, 16\, 20)\; font-family:-apple-system\,blinkmacsystemfont\,segoe ui\,roboto\,helvetica\,arial\,sans-serif\; font-size:14px">Build skills &amp\; confidence</span><br />\n<br />\n<strong><span style="color:rgb(12\, 16\, 20)\; font-family:-apple-system\,blinkmacsystemfont\,segoe ui\,roboto\,helvetica\,arial\,sans-serif\; font-size:14px">Advanced (Ages 13+)</span></strong><br />\n<span style="color:rgb(12\, 16\, 20)\; font-family:-apple-system\,blinkmacsystemfont\,segoe ui\,roboto\,helvetica\,arial\,sans-serif\; font-size:14px">Mon/Wed | 9:30 AM &ndash\; 12:00 PM</span><br />\n<span style="color:rgb(12\, 16\, 20)\; font-family:-apple-system\,blinkmacsystemfont\,segoe ui\,roboto\,helvetica\,arial\,sans-serif\; font-size:14px">Elite doubles prep &amp\; performance training</span><br />\n<br />\n<span style="color:rgb(12\, 16\, 20)\; font-family:-apple-system\,blinkmacsystemfont\,segoe ui\,roboto\,helvetica\,arial\,sans-serif\; font-size:14px">- Professional coaching</span><br />\n<span style="color:rgb(12\, 16\, 20)\; font-family:-apple-system\,blinkmacsystemfont\,segoe ui\,roboto\,helvetica\,arial\,sans-serif\; font-size:14px">- Skill development for every level</span><br />\n<span style="color:rgb(12\, 16\, 20)\; font-family:-apple-system\,blinkmacsystemfont\,segoe ui\,roboto\,helvetica\,arial\,sans-serif\; font-size:14px">- Small group training on the sand</span><br />\n<br />\n<span style="color:rgb(12\, 16\, 20)\; font-family:-apple-system\,blinkmacsystemfont\,segoe ui\,roboto\,helvetica\,arial\,sans-serif\; font-size:14px">Location: 4471 Parmalee Gulch Rd\, Indian Hills</span><br />\n<span style="color:rgb(12\, 16\, 20)\; font-family:-apple-system\,blinkmacsystemfont\,segoe ui\,roboto\,helvetica\,arial\,sans-serif\; font-size:14px">Info: info@FlourishBeach.org</span><br />\n<span style="color:rgb(12\, 16\, 20)\; font-family:-apple-system\,blinkmacsystemfont\,segoe ui\,roboto\,helvetica\,arial\,sans-serif\; font-size:14px">Call: 833.568.7474</span><br />\n<br />\n<span style="color:rgb(12\, 16\, 20)\; font-family:-apple-system\,blinkmacsystemfont\,segoe ui\,roboto\,helvetica\,arial\,sans-serif\; font-size:14px">Spots are limited! Register now:&nbsp\;</span><span style="color:rgb(12\, 16\, 20)\; font-family:-apple-system\,blinkmacsystemfont\,segoe ui\,roboto\,helvetica\,arial\,sans-serif\; font-size:14px">https://www.zeffy.com/en-US/ticketing/flourish-beach-youth-volleyball-camp--26</span>
LOCATION:Location: 4471 Parmalee Gulch Rd\, Indian Hills
UID:e.298.106397
SEQUENCE:3
DTSTAMP:20260419T124636Z
URL:http://business.evergreenchamber.org/events/details/flourish-beach-summer-volleyball-camp-2026-106397
END:VEVENT

END:VCALENDAR
