BEGIN:VCALENDAR
VERSION:2.0
PRODID:-//ChamberMaster//Event Calendar 2.0//EN
METHOD:PUBLISH
X-PUBLISHED-TTL:P3D
REFRESH-INTERVAL:P3D
CALSCALE:GREGORIAN
BEGIN:VEVENT
DTSTART:20260808T000000Z
DTEND:20260808T020000Z
X-MICROSOFT-CDO-ALLDAYEVENT:FALSE
SUMMARY:ARTFUL PAIRINGS CULINARY SERIES: Rosé & White – A Taste of Summer
DESCRIPTION:Join us on Friday\, August 7 from 6 8 pm for the third tasting in the series\, Ros  & White Wine: A Tasting of Summer.\n\nThis guided tasting will highlight four refreshing white and ros  wines\, each paired with fresh\, seasonal bites like soft cheeses\, light fish\, and classic caprese. You'll have time to sip\, sample\, and compare notes while enjoying a relaxed\, social evening with friends.\n\nWhether you're a longtime wine lover or just looking for the perfect summer sip\, this is a tasting you won't want to miss.
X-ALT-DESC;FMTTYPE=text/html:<p>Join us on&nbsp\;<strong>Friday\, August 7 from 6&ndash\;8 pm</strong>&nbsp\;for the third tasting in the series\,&nbsp\;<strong>Ros&eacute\; &amp\; White Wine: A Tasting of Summer</strong>.</p>\n\n<p>This guided tasting will highlight four refreshing white and ros&eacute\; wines\, each paired with fresh\, seasonal bites like soft cheeses\, light fish\, and classic caprese. You&rsquo\;ll have time to sip\, sample\, and compare notes while enjoying a relaxed\, social evening with friends.</p>\n\n<p>Whether you&rsquo\;re a longtime wine lover or just looking for the perfect summer sip\, this is a tasting you won&rsquo\;t want to miss.</p>\n
LOCATION:CENTER FOR THE ARTS EVERGREEN 31880 Rocky Village Drive Evergreen\, CO 80439
UID:e.298.106361
SEQUENCE:3
DTSTAMP:20260419T193912Z
URL:http://business.evergreenchamber.org/events/details/artful-pairings-culinary-series-ros&#233;-white-a-taste-of-summer-106361
END:VEVENT

END:VCALENDAR
