BEGIN:VCALENDAR
VERSION:2.0
PRODID:-//ChamberMaster//Event Calendar 2.0//EN
METHOD:PUBLISH
X-PUBLISHED-TTL:P3D
REFRESH-INTERVAL:P3D
CALSCALE:GREGORIAN
BEGIN:VEVENT
DTSTART:20260613T000000Z
DTEND:20260613T020000Z
X-MICROSOFT-CDO-ALLDAYEVENT:FALSE
SUMMARY:ARTFUL PAIRINGS CULINARY SERIES: Gin – A Tasting in Bloom
DESCRIPTION:Join us on Friday\, June 12 from 6 8pm for the second tasting in the series\, Gin: A Tasting in Bloom.\n\nLed by a spirits expert\, this guided tasting will explore the bright\, botanical flavors of gin and how they pair with fresh\, flavorful bites designed to highlight\, balance\, and play with its unique profile. You'll sample three to four different gins\, each paired with a thoughtfully selected bite\, and have time to mingle\, compare notes\, and enjoy the experience with friends.\n\nWhether you're a longtime gin lover or just discovering it\, this is a tasting you won't want to miss.
X-ALT-DESC;FMTTYPE=text/html:<p>Join us on&nbsp\;<strong>Friday\, June 12 from 6&ndash\;8pm</strong>&nbsp\;for the second tasting in the series\,&nbsp\;<strong>Gin: A Tasting in Bloom</strong>.</p>\n\n<p>Led by a spirits expert\, this guided tasting will explore the bright\, botanical flavors of gin and how they pair with fresh\, flavorful bites designed to highlight\, balance\, and play with its unique profile. You&rsquo\;ll sample three to four different gins\, each paired with a thoughtfully selected bite\, and have time to mingle\, compare notes\, and enjoy the experience with friends.</p>\n\n<p>Whether you&rsquo\;re a longtime gin lover or just discovering it\, this is a tasting you won&rsquo\;t want to miss.</p>\n
LOCATION:CENTER FOR THE ARTS EVERGREEN 31880 Rocky Village Drive Evergreen\, CO 80439
UID:e.298.106360
SEQUENCE:3
DTSTAMP:20260419T124622Z
URL:http://business.evergreenchamber.org/events/details/artful-pairings-culinary-series-gin-a-tasting-in-bloom-106360
END:VEVENT

END:VCALENDAR
