BEGIN:VCALENDAR
VERSION:2.0
PRODID:-//ChamberMaster//Event Calendar 2.0//EN
METHOD:PUBLISH
X-PUBLISHED-TTL:P3D
REFRESH-INTERVAL:P3D
CALSCALE:GREGORIAN
BEGIN:VEVENT
DTSTART:20260526T190000Z
DTEND:20260527T223000Z
X-MICROSOFT-CDO-ALLDAYEVENT:FALSE
SUMMARY:Adult Mental Health First Aid - TWO (2) Day in person class
DESCRIPTION:Mental Health First Aid is a course that teaches you how to help someone who is experiencing a mental health challenge.\n\n\n\n\n\nSupport those around you by getting certified in Mental Health First Aid\n\n \n\nMental Health First Aid teaches the skills needed to recognize and respond to signs and symptoms of mental health and substance use challenges\, as well as how to provide someone with initial support until they are connected with appropriate professional help. In the course\, you learn risk factors and warning signs for mental health and addiction concerns\, strategies to help someone in both crisis and noncrisis situations\, and where to turn for help.\n\nThe curriculum includes access to a two hour self-paced course\, and 2 (two) 3.5 hour in person classes at Belmar Library. You can expect to receive communications about the two hour self-paced course approximately 2 weeks before the course start date.\n\nTo attend a class you must:\n\n  Complete the self-paced course prior to the scheduled\n\n  A valid email address in order to receive materials and log in\n\nThis course is designed for anyone who would like to make their community a healthier\, happier and safer place for all. Mental Health First Aid is for everyone from neighbors\, parents\, friends\, veterans\, first responders\, people in recovery\, and community leaders.\n\n \n\nClass registration closes on 05/14/2026\, so sign up now!\n\nAdult Mental Health First Aid - TWO (2) Day in person class Tickets\, Multiple dates | Eventbrite
X-ALT-DESC;FMTTYPE=text/html:<div>\n<div>\n<p>Mental Health First Aid is a course that teaches you how to help someone who is experiencing a mental health challenge.</p>\n</div>\n</div>\n\n<div>\n<div>\n<h3>Support those around you by getting certified in Mental Health First Aid</h3>\n\n<p>&nbsp\;</p>\n\n<p>Mental Health First Aid teaches the skills needed to recognize and respond to signs and symptoms of mental health and substance use challenges\, as well as how to provide someone with initial support until they are connected with appropriate professional help. In the course\, you learn risk factors and warning signs for mental health and addiction concerns\, strategies to help someone in both crisis and noncrisis situations\, and where to turn for help.</p>\n\n<p>The curriculum includes access to a two hour self-paced course\, and 2 (two) 3.5 hour in person classes at Belmar Library. You can expect to receive communications about the two hour self-paced course approximately 2 weeks before the course start date.</p>\n\n<p>To attend a class you must:</p>\n\n<p>&bull\; Complete the self-paced course prior to the scheduled</p>\n\n<p>&bull\; A valid email address in order to receive materials and log in</p>\n\n<p>This course is designed for anyone who would like to make their community a healthier\, happier and safer place for all. Mental Health First Aid is for everyone&mdash\;from neighbors\, parents\, friends\, veterans\, first responders\, people in recovery\, and community leaders.</p>\n\n<p>&nbsp\;</p>\n\n<p>Class registration closes on 05/14/2026\, so sign up now!<br />\n<a href="https://www.eventbrite.com/e/adult-mental-health-first-aid-two-2-day-in-person-class-tickets-1985871786973?aff=oddtdtcreator">Adult Mental Health First Aid - TWO (2) Day in person class Tickets\, Multiple dates | Eventbrite</a><br />\n&nbsp\;</p>\n</div>\n</div>\n
LOCATION:Belmar Library - Jefferson County Public Library 555 South Allison Parkway Lakewood\, CO 80226
UID:e.298.106393
SEQUENCE:3
DTSTAMP:20260419T125640Z
URL:http://business.evergreenchamber.org/events/details/adult-mental-health-first-aid-two-2-day-in-person-class-106393
END:VEVENT

END:VCALENDAR
